BEGIN:VCALENDAR
VERSION:2.0
PRODID:-//Pointe-a-Pierre Golf Club - ECPv6.15.20//NONSGML v1.0//EN
CALSCALE:GREGORIAN
METHOD:PUBLISH
X-WR-CALNAME:Pointe-a-Pierre Golf Club
X-ORIGINAL-URL:https://papgcl.com
X-WR-CALDESC:Events for Pointe-a-Pierre Golf Club
REFRESH-INTERVAL;VALUE=DURATION:PT1H
X-Robots-Tag:noindex
X-PUBLISHED-TTL:PT1H
BEGIN:VTIMEZONE
TZID:America/Halifax
BEGIN:DAYLIGHT
TZOFFSETFROM:-0400
TZOFFSETTO:-0300
TZNAME:ADT
DTSTART:20230312T060000
END:DAYLIGHT
BEGIN:STANDARD
TZOFFSETFROM:-0300
TZOFFSETTO:-0400
TZNAME:AST
DTSTART:20231105T050000
END:STANDARD
BEGIN:DAYLIGHT
TZOFFSETFROM:-0400
TZOFFSETTO:-0300
TZNAME:ADT
DTSTART:20240310T060000
END:DAYLIGHT
BEGIN:STANDARD
TZOFFSETFROM:-0300
TZOFFSETTO:-0400
TZNAME:AST
DTSTART:20241103T050000
END:STANDARD
BEGIN:DAYLIGHT
TZOFFSETFROM:-0400
TZOFFSETTO:-0300
TZNAME:ADT
DTSTART:20250309T060000
END:DAYLIGHT
BEGIN:STANDARD
TZOFFSETFROM:-0300
TZOFFSETTO:-0400
TZNAME:AST
DTSTART:20251102T050000
END:STANDARD
END:VTIMEZONE
BEGIN:VEVENT
DTSTART;VALUE=DATE:20240407
DTEND;VALUE=DATE:20240408
DTSTAMP:20260421T120831
CREATED:20240315T184150Z
LAST-MODIFIED:20240315T184150Z
UID:4403-1712448000-1712534399@papgcl.com
SUMMARY:ROTARY SAN FERNANDO SOUTH - ANNUAL CHARITY  TOURNAMENT
DESCRIPTION:
URL:https://papgcl.com/event/rotary-san-fernando-south-annual-charity-tournament/
LOCATION:Pointe-a-Pierre Golf Club\, Concord Road\, Pointe-à-Pierre\,\, Trinidad and Tobago
CATEGORIES:Golf Tournament
END:VEVENT
END:VCALENDAR