BEGIN:VCALENDAR
VERSION:2.0
PRODID:-//Pointe-a-Pierre Golf Club - ECPv6.15.20//NONSGML v1.0//EN
CALSCALE:GREGORIAN
METHOD:PUBLISH
X-WR-CALNAME:Pointe-a-Pierre Golf Club
X-ORIGINAL-URL:https://papgcl.com
X-WR-CALDESC:Events for Pointe-a-Pierre Golf Club
REFRESH-INTERVAL;VALUE=DURATION:PT1H
X-Robots-Tag:noindex
X-PUBLISHED-TTL:PT1H
BEGIN:VTIMEZONE
TZID:America/Halifax
BEGIN:DAYLIGHT
TZOFFSETFROM:-0400
TZOFFSETTO:-0300
TZNAME:ADT
DTSTART:20230312T060000
END:DAYLIGHT
BEGIN:STANDARD
TZOFFSETFROM:-0300
TZOFFSETTO:-0400
TZNAME:AST
DTSTART:20231105T050000
END:STANDARD
BEGIN:DAYLIGHT
TZOFFSETFROM:-0400
TZOFFSETTO:-0300
TZNAME:ADT
DTSTART:20240310T060000
END:DAYLIGHT
BEGIN:STANDARD
TZOFFSETFROM:-0300
TZOFFSETTO:-0400
TZNAME:AST
DTSTART:20241103T050000
END:STANDARD
BEGIN:DAYLIGHT
TZOFFSETFROM:-0400
TZOFFSETTO:-0300
TZNAME:ADT
DTSTART:20250309T060000
END:DAYLIGHT
BEGIN:STANDARD
TZOFFSETFROM:-0300
TZOFFSETTO:-0400
TZNAME:AST
DTSTART:20251102T050000
END:STANDARD
END:VTIMEZONE
BEGIN:VEVENT
DTSTART;TZID=America/Halifax:20240714T080000
DTEND;TZID=America/Halifax:20240714T170000
DTSTAMP:20260421T071849
CREATED:20240626T122956Z
LAST-MODIFIED:20240628T220536Z
UID:4567-1720944000-1720976400@papgcl.com
SUMMARY:ASH ALI Cup
DESCRIPTION:Sunday 14th July 2024. \nASH ALI Tournament
URL:https://papgcl.com/event/ash-ali-cup/
LOCATION:Pointe-a-Pierre Golf Club\, Concord Road\, Pointe-à-Pierre\,\, Trinidad and Tobago
CATEGORIES:Golf,Golf Tournament
END:VEVENT
BEGIN:VEVENT
DTSTART;TZID=America/Halifax:20240720T080000
DTEND;TZID=America/Halifax:20240721T170000
DTSTAMP:20260421T071849
CREATED:20240626T122633Z
LAST-MODIFIED:20240626T122633Z
UID:4562-1721462400-1721581200@papgcl.com
SUMMARY:PAPGCL Club Championship
DESCRIPTION:Saturday 20th to Sunday 21st July 2024. \nTee times from 8 AM \n$300.00/Player \n$100.00/Junior \nLunch Included \nClasses: Handicaps \nA Class Up to 9 \nB Class 10 to 16 \nC Class 17 to 24 \nD Class 25 Plus. \nPrizes 1st & 2nd Gross \nBest Net Each Class
URL:https://papgcl.com/event/papgcl-club-championship/
LOCATION:Pointe-a-Pierre Golf Club\, Concord Road\, Pointe-à-Pierre\,\, Trinidad and Tobago
CATEGORIES:Golf,Golf Tournament
ATTACH;FMTTYPE=image/jpeg:https://papgcl.com/wp-content/uploads/2024/06/championship.jpg
ORGANIZER;CN="PAPGCL":MAILTO:papgcltd@gmail.com
END:VEVENT
BEGIN:VEVENT
DTSTART;TZID=America/Halifax:20240727T093000
DTEND;TZID=America/Halifax:20240727T170000
DTSTAMP:20260421T071849
CREATED:20240604T201528Z
LAST-MODIFIED:20240626T115950Z
UID:4475-1722072600-1722099600@papgcl.com
SUMMARY:Stephen Ames Cup
DESCRIPTION:Developing and inspiring youth through the game of golf. \nSaturday 27th July 2024. \nShotgun Start: 9:30 am. \n4 Ball (2 Ball Better Ball). \nMAX HCP 28 \n$1\,800TT per Team (Team: 2 Golfers)
URL:https://papgcl.com/event/stephen-ames-cup/
LOCATION:Pointe-a-Pierre Golf Club\, Concord Road\, Pointe-à-Pierre\,\, Trinidad and Tobago
CATEGORIES:Golf,Golf Tournament
ATTACH;FMTTYPE=image/jpeg:https://papgcl.com/wp-content/uploads/2024/06/stephen-ames-cup-flyer.jpg
ORGANIZER;CN="PAPGCL":MAILTO:papgcltd@gmail.com
END:VEVENT
END:VCALENDAR