BEGIN:VCALENDAR
VERSION:2.0
PRODID:-//Pointe-a-Pierre Golf Club - ECPv6.15.20//NONSGML v1.0//EN
CALSCALE:GREGORIAN
METHOD:PUBLISH
X-ORIGINAL-URL:https://papgcl.com
X-WR-CALDESC:Events for Pointe-a-Pierre Golf Club
REFRESH-INTERVAL;VALUE=DURATION:PT1H
X-Robots-Tag:noindex
X-PUBLISHED-TTL:PT1H
BEGIN:VTIMEZONE
TZID:America/Halifax
BEGIN:DAYLIGHT
TZOFFSETFROM:-0400
TZOFFSETTO:-0300
TZNAME:ADT
DTSTART:20230312T060000
END:DAYLIGHT
BEGIN:STANDARD
TZOFFSETFROM:-0300
TZOFFSETTO:-0400
TZNAME:AST
DTSTART:20231105T050000
END:STANDARD
BEGIN:DAYLIGHT
TZOFFSETFROM:-0400
TZOFFSETTO:-0300
TZNAME:ADT
DTSTART:20240310T060000
END:DAYLIGHT
BEGIN:STANDARD
TZOFFSETFROM:-0300
TZOFFSETTO:-0400
TZNAME:AST
DTSTART:20241103T050000
END:STANDARD
BEGIN:DAYLIGHT
TZOFFSETFROM:-0400
TZOFFSETTO:-0300
TZNAME:ADT
DTSTART:20250309T060000
END:DAYLIGHT
BEGIN:STANDARD
TZOFFSETFROM:-0300
TZOFFSETTO:-0400
TZNAME:AST
DTSTART:20251102T050000
END:STANDARD
END:VTIMEZONE
BEGIN:VEVENT
DTSTART;TZID=America/Halifax:20240801T090000
DTEND;TZID=America/Halifax:20240801T170000
DTSTAMP:20260421T060122
CREATED:20240731T041317Z
LAST-MODIFIED:20240731T041317Z
UID:4710-1722502800-1722531600@papgcl.com
SUMMARY:Emancipation Day Tournament
DESCRIPTION:Thursday 1st August 2024. \nFormat: 2 Ball\, Sixes. \nShotgun Start: 9 AM. \nBreakfast From: 7:30 AM. \nRegister Now PAPGCL Admin Office\, 478-2294 | papgolfclubltd@gmail.com. \nCloses at 4 PM Tuesday 30th July 2024 \n 
URL:https://papgcl.com/event/emancipation-day-tournament-2/
LOCATION:Pointe-a-Pierre Golf Club\, Concord Road\, Pointe-à-Pierre\,\, Trinidad and Tobago
CATEGORIES:Golf,Golf Tournament
ATTACH;FMTTYPE=image/jpeg:https://papgcl.com/wp-content/uploads/2024/07/Emancipation-Day-Tournament.jpg
ORGANIZER;CN="PAPGCL":MAILTO:papgcltd@gmail.com
END:VEVENT
BEGIN:VEVENT
DTSTART;TZID=America/Halifax:20240810T090000
DTEND;TZID=America/Halifax:20240810T170000
DTSTAMP:20260421T060122
CREATED:20240731T042516Z
LAST-MODIFIED:20240731T042516Z
UID:4721-1723280400-1723309200@papgcl.com
SUMMARY:PAPGCL Memorial Game
DESCRIPTION:Chris Richards Jr. Farewell Game. Saturday 10th August 2024. \nAll proceeds to Chris. \n9 AM Shotgun Start. \n3 Ball Scramble\, Breakfast\, Lunch & Prizes. \n$600 / TEAM. \nRegister Now! Admin Office1-868-478-2294 | papgolfclubltd@gmail.com \nDeadline: Reg. & Payment Thursday 8th August 2024\, 4 PM
URL:https://papgcl.com/event/papgcl-memorial-game/
LOCATION:Pointe-a-Pierre Golf Club\, Concord Road\, Pointe-à-Pierre\,\, Trinidad and Tobago
CATEGORIES:Golf,Golf Tournament
ATTACH;FMTTYPE=image/jpeg:https://papgcl.com/wp-content/uploads/2024/07/Chris-Richards-Jr.-Farewell-Game.jpg
ORGANIZER;CN="PAPGCL":MAILTO:papgcltd@gmail.com
END:VEVENT
BEGIN:VEVENT
DTSTART;TZID=America/Halifax:20240823T080000
DTEND;TZID=America/Halifax:20240825T170000
DTSTAMP:20260421T060122
CREATED:20240628T221841Z
LAST-MODIFIED:20240628T221938Z
UID:4635-1724400000-1724605200@papgcl.com
SUMMARY:Davis Junior Cup Open 2024
DESCRIPTION:Main Prizes \nWager Points \nEntries to the Jamaica Open and Hurricane Jr Golf tournaments. Other great prizes for Top Male/Female golfer in each category! \n23rd\, 24th\, 25th AUGUST. Register at PAPGCL Office or Contract 868-315-4414. \nPAPGCL Course\, Point-a-Pierre \n 
URL:https://papgcl.com/event/davis-junior-cup-open-2024/
LOCATION:Pointe-a-Pierre Golf Club\, Concord Road\, Pointe-à-Pierre\,\, Trinidad and Tobago
CATEGORIES:Golf,Golf Tournament
ATTACH;FMTTYPE=image/jpeg:https://papgcl.com/wp-content/uploads/2024/06/Davis-Cup-2024-Flyer.jpg
ORGANIZER;CN="PAPGCL":MAILTO:papgcltd@gmail.com
END:VEVENT
BEGIN:VEVENT
DTSTART;TZID=America/Halifax:20240824T080000
DTEND;TZID=America/Halifax:20240824T170000
DTSTAMP:20260421T060122
CREATED:20240731T042912Z
LAST-MODIFIED:20240731T042912Z
UID:4725-1724486400-1724518800@papgcl.com
SUMMARY:Independence Day Tournament
DESCRIPTION:Saturday 24th August 2024.
URL:https://papgcl.com/event/independence-day-tournament/
LOCATION:Pointe-a-Pierre Golf Club\, Concord Road\, Pointe-à-Pierre\,\, Trinidad and Tobago
CATEGORIES:Golf,Golf Tournament
ORGANIZER;CN="PAPGCL":MAILTO:papgcltd@gmail.com
END:VEVENT
END:VCALENDAR