BEGIN:VCALENDAR
VERSION:2.0
PRODID:-//Pointe-a-Pierre Golf Club - ECPv6.15.20//NONSGML v1.0//EN
CALSCALE:GREGORIAN
METHOD:PUBLISH
X-ORIGINAL-URL:https://papgcl.com
X-WR-CALDESC:Events for Pointe-a-Pierre Golf Club
REFRESH-INTERVAL;VALUE=DURATION:PT1H
X-Robots-Tag:noindex
X-PUBLISHED-TTL:PT1H
BEGIN:VTIMEZONE
TZID:America/Halifax
BEGIN:DAYLIGHT
TZOFFSETFROM:-0400
TZOFFSETTO:-0300
TZNAME:ADT
DTSTART:20220313T060000
END:DAYLIGHT
BEGIN:STANDARD
TZOFFSETFROM:-0300
TZOFFSETTO:-0400
TZNAME:AST
DTSTART:20221106T050000
END:STANDARD
BEGIN:DAYLIGHT
TZOFFSETFROM:-0400
TZOFFSETTO:-0300
TZNAME:ADT
DTSTART:20230312T060000
END:DAYLIGHT
BEGIN:STANDARD
TZOFFSETFROM:-0300
TZOFFSETTO:-0400
TZNAME:AST
DTSTART:20231105T050000
END:STANDARD
BEGIN:DAYLIGHT
TZOFFSETFROM:-0400
TZOFFSETTO:-0300
TZNAME:ADT
DTSTART:20240310T060000
END:DAYLIGHT
BEGIN:STANDARD
TZOFFSETFROM:-0300
TZOFFSETTO:-0400
TZNAME:AST
DTSTART:20241103T050000
END:STANDARD
END:VTIMEZONE
BEGIN:VEVENT
DTSTART;TZID=America/Halifax:20230929T080000
DTEND;TZID=America/Halifax:20231001T170000
DTSTAMP:20260423T232624
CREATED:20230921T192659Z
LAST-MODIFIED:20230921T192659Z
UID:1983-1695974400-1696179600@papgcl.com
SUMMARY:The 20th Scarborough Cup and Junior Drive Chip and Putt Competition
DESCRIPTION:Date: 29th\, 30th September\, 1st October 2023 \nCome and be Challenged by the Booby Holes \nTee Boxes\, Men Blue\, Super Seniors White\, Ladies Red \nFee per Team 2\,800
URL:https://papgcl.com/event/the-20th-scarborough-cup-and-junior-drive-chip-and-putt-competition/
LOCATION:The Magdalena Grand Beach & Golf Resort
CATEGORIES:Golf Tournament
ATTACH;FMTTYPE=image/jpeg:https://papgcl.com/wp-content/uploads/2023/09/Scarborough-Cup-230929.jpg
END:VEVENT
END:VCALENDAR