BEGIN:VCALENDAR
VERSION:2.0
PRODID:-//Pointe-a-Pierre Golf Club - ECPv6.15.20//NONSGML v1.0//EN
CALSCALE:GREGORIAN
METHOD:PUBLISH
X-WR-CALNAME:Pointe-a-Pierre Golf Club
X-ORIGINAL-URL:https://papgcl.com
X-WR-CALDESC:Events for Pointe-a-Pierre Golf Club
REFRESH-INTERVAL;VALUE=DURATION:PT1H
X-Robots-Tag:noindex
X-PUBLISHED-TTL:PT1H
BEGIN:VTIMEZONE
TZID:America/Halifax
BEGIN:DAYLIGHT
TZOFFSETFROM:-0400
TZOFFSETTO:-0300
TZNAME:ADT
DTSTART:20230312T060000
END:DAYLIGHT
BEGIN:STANDARD
TZOFFSETFROM:-0300
TZOFFSETTO:-0400
TZNAME:AST
DTSTART:20231105T050000
END:STANDARD
BEGIN:DAYLIGHT
TZOFFSETFROM:-0400
TZOFFSETTO:-0300
TZNAME:ADT
DTSTART:20240310T060000
END:DAYLIGHT
BEGIN:STANDARD
TZOFFSETFROM:-0300
TZOFFSETTO:-0400
TZNAME:AST
DTSTART:20241103T050000
END:STANDARD
BEGIN:DAYLIGHT
TZOFFSETFROM:-0400
TZOFFSETTO:-0300
TZNAME:ADT
DTSTART:20250309T060000
END:DAYLIGHT
BEGIN:STANDARD
TZOFFSETFROM:-0300
TZOFFSETTO:-0400
TZNAME:AST
DTSTART:20251102T050000
END:STANDARD
END:VTIMEZONE
BEGIN:VEVENT
DTSTART;TZID=America/Halifax:20240121T100000
DTEND;TZID=America/Halifax:20240121T170000
DTSTAMP:20260421T183655
CREATED:20231219T201337Z
LAST-MODIFIED:20231219T204652Z
UID:3869-1705831200-1705856400@papgcl.com
SUMMARY:Naparima College 2024 Golf Tournament
DESCRIPTION:Shotgun Start: 10am;  2 Ball Better Ball 85% Handicap \nHosted by N.A.P.S.A.C. \nAll proceeds for school security upgrades & school development \nJunior 9-Hole @ 7am $150 ea. \nLaunch of the Naparima College Golf Club
URL:https://papgcl.com/event/naparima-college-2024-golf-tournament/
LOCATION:Pointe-a-Pierre Golf Club\, Concord Road\, Pointe-à-Pierre\,\, Trinidad and Tobago
CATEGORIES:Golf Tournament
ATTACH;FMTTYPE=image/jpeg:https://papgcl.com/wp-content/uploads/2023/12/Naps-Boys-game-resized-Compressed.jpg
END:VEVENT
END:VCALENDAR