BEGIN:VCALENDAR
VERSION:2.0
PRODID:-//Pointe-a-Pierre Golf Club - ECPv6.15.20//NONSGML v1.0//EN
CALSCALE:GREGORIAN
METHOD:PUBLISH
X-ORIGINAL-URL:https://papgcl.com
X-WR-CALDESC:Events for Pointe-a-Pierre Golf Club
REFRESH-INTERVAL;VALUE=DURATION:PT1H
X-Robots-Tag:noindex
X-PUBLISHED-TTL:PT1H
BEGIN:VTIMEZONE
TZID:America/Halifax
BEGIN:DAYLIGHT
TZOFFSETFROM:-0400
TZOFFSETTO:-0300
TZNAME:ADT
DTSTART:20230312T060000
END:DAYLIGHT
BEGIN:STANDARD
TZOFFSETFROM:-0300
TZOFFSETTO:-0400
TZNAME:AST
DTSTART:20231105T050000
END:STANDARD
BEGIN:DAYLIGHT
TZOFFSETFROM:-0400
TZOFFSETTO:-0300
TZNAME:ADT
DTSTART:20240310T060000
END:DAYLIGHT
BEGIN:STANDARD
TZOFFSETFROM:-0300
TZOFFSETTO:-0400
TZNAME:AST
DTSTART:20241103T050000
END:STANDARD
BEGIN:DAYLIGHT
TZOFFSETFROM:-0400
TZOFFSETTO:-0300
TZNAME:ADT
DTSTART:20250309T060000
END:DAYLIGHT
BEGIN:STANDARD
TZOFFSETFROM:-0300
TZOFFSETTO:-0400
TZNAME:AST
DTSTART:20251102T050000
END:STANDARD
END:VTIMEZONE
BEGIN:VEVENT
DTSTART;TZID=America/Halifax:20240202T080000
DTEND;TZID=America/Halifax:20240204T170000
DTSTAMP:20260421T170522
CREATED:20231231T150655Z
LAST-MODIFIED:20231231T150655Z
UID:4122-1706860800-1707066000@papgcl.com
SUMMARY:PAPGCL 3-Day Open South Classic
DESCRIPTION:2nd\, 3rd and 4th February 2024. \nProfessional (Scratch): TT$ 1\,200\, 2nd-4th February. \nChampionship (+4 – 6.3) and 1st Flight (6.4 – 11.2): TT$1000; 2nd-4th February. \n2nd Flight (11.3 – 17) and 3rd Flight (17.1 – 24.4): TT$750; 3rd-4th February. \nLadies (Open): TT$750; 2nd-4th February. \nRegister contact PAPGCL Admin: 868 478 2294 \nRegistration and Payment closes: January 31st 2024.
URL:https://papgcl.com/event/papgcl-3-day-open-south-classic/
LOCATION:Pointe-a-Pierre Golf Club\, Concord Road\, Pointe-à-Pierre\,\, Trinidad and Tobago
CATEGORIES:Golf,Golf Tournament
ATTACH;FMTTYPE=image/jpeg:https://papgcl.com/wp-content/uploads/2023/12/IMG-20231228-WA0007.jpg
ORGANIZER;CN="PAPGCL":MAILTO:papgcltd@gmail.com
END:VEVENT
END:VCALENDAR