BEGIN:VCALENDAR
VERSION:2.0
PRODID:-//Pointe-a-Pierre Golf Club - ECPv6.15.20//NONSGML v1.0//EN
CALSCALE:GREGORIAN
METHOD:PUBLISH
X-WR-CALNAME:Pointe-a-Pierre Golf Club
X-ORIGINAL-URL:https://papgcl.com
X-WR-CALDESC:Events for Pointe-a-Pierre Golf Club
REFRESH-INTERVAL;VALUE=DURATION:PT1H
X-Robots-Tag:noindex
X-PUBLISHED-TTL:PT1H
BEGIN:VTIMEZONE
TZID:America/Halifax
BEGIN:DAYLIGHT
TZOFFSETFROM:-0400
TZOFFSETTO:-0300
TZNAME:ADT
DTSTART:20230312T060000
END:DAYLIGHT
BEGIN:STANDARD
TZOFFSETFROM:-0300
TZOFFSETTO:-0400
TZNAME:AST
DTSTART:20231105T050000
END:STANDARD
BEGIN:DAYLIGHT
TZOFFSETFROM:-0400
TZOFFSETTO:-0300
TZNAME:ADT
DTSTART:20240310T060000
END:DAYLIGHT
BEGIN:STANDARD
TZOFFSETFROM:-0300
TZOFFSETTO:-0400
TZNAME:AST
DTSTART:20241103T050000
END:STANDARD
BEGIN:DAYLIGHT
TZOFFSETFROM:-0400
TZOFFSETTO:-0300
TZNAME:ADT
DTSTART:20250309T060000
END:DAYLIGHT
BEGIN:STANDARD
TZOFFSETFROM:-0300
TZOFFSETTO:-0400
TZNAME:AST
DTSTART:20251102T050000
END:STANDARD
END:VTIMEZONE
BEGIN:VEVENT
DTSTART;TZID=America/Halifax:20240212T090000
DTEND;TZID=America/Halifax:20240212T170000
DTSTAMP:20260421T170225
CREATED:20240119T135400Z
LAST-MODIFIED:20240119T135400Z
UID:4253-1707728400-1707757200@papgcl.com
SUMMARY:USMGC Carnival game
DESCRIPTION:Date: Monday 12th February (Shotgun start at 9:00am) \nVenue: Ste Madeleine Golf Course \nGame: 18 hole \nContact: Bobby #774-4387 \nDamion #472-6728 \nShiva#712-8867
URL:https://papgcl.com/event/usmgc-carnival-game/
LOCATION:Usine Ste. Madeline Golf Course\, Trinidad and Tobago
CATEGORIES:Golf,Golf Tournament
ATTACH;FMTTYPE=image/jpeg:https://papgcl.com/wp-content/uploads/2024/01/IMG-20240117-WA0017.jpg
END:VEVENT
END:VCALENDAR