BEGIN:VCALENDAR
VERSION:2.0
PRODID:-//Pointe-a-Pierre Golf Club - ECPv6.15.20//NONSGML v1.0//EN
CALSCALE:GREGORIAN
METHOD:PUBLISH
X-ORIGINAL-URL:https://papgcl.com
X-WR-CALDESC:Events for Pointe-a-Pierre Golf Club
REFRESH-INTERVAL;VALUE=DURATION:PT1H
X-Robots-Tag:noindex
X-PUBLISHED-TTL:PT1H
BEGIN:VTIMEZONE
TZID:America/Halifax
BEGIN:DAYLIGHT
TZOFFSETFROM:-0400
TZOFFSETTO:-0300
TZNAME:ADT
DTSTART:20230312T060000
END:DAYLIGHT
BEGIN:STANDARD
TZOFFSETFROM:-0300
TZOFFSETTO:-0400
TZNAME:AST
DTSTART:20231105T050000
END:STANDARD
BEGIN:DAYLIGHT
TZOFFSETFROM:-0400
TZOFFSETTO:-0300
TZNAME:ADT
DTSTART:20240310T060000
END:DAYLIGHT
BEGIN:STANDARD
TZOFFSETFROM:-0300
TZOFFSETTO:-0400
TZNAME:AST
DTSTART:20241103T050000
END:STANDARD
BEGIN:DAYLIGHT
TZOFFSETFROM:-0400
TZOFFSETTO:-0300
TZNAME:ADT
DTSTART:20250309T060000
END:DAYLIGHT
BEGIN:STANDARD
TZOFFSETFROM:-0300
TZOFFSETTO:-0400
TZNAME:AST
DTSTART:20251102T050000
END:STANDARD
END:VTIMEZONE
BEGIN:VEVENT
DTSTART;TZID=America/Halifax:20240626T063000
DTEND;TZID=America/Halifax:20240626T170000
DTSTAMP:20260421T103537
CREATED:20240626T121322Z
LAST-MODIFIED:20240626T121322Z
UID:4557-1719383400-1719421200@papgcl.com
SUMMARY:July Medal
DESCRIPTION:Saturday 6th July. \nTee Times from 6:30 AM. \nLunch after the game. \nMembers / Pros / Masters: $150.00 \nTri-Club Members: $200.00 \nNon-Members: $200.00 \nJuniors: $50.00
URL:https://papgcl.com/event/july-medal/
LOCATION:Pointe-a-Pierre Golf Club\, Concord Road\, Pointe-à-Pierre\,\, Trinidad and Tobago
CATEGORIES:Golf,Golf Tournament,Monthly Medal
ATTACH;FMTTYPE=image/jpeg:https://papgcl.com/wp-content/uploads/2024/06/july-medal.jpg
ORGANIZER;CN="PAPGCL":MAILTO:papgcltd@gmail.com
END:VEVENT
END:VCALENDAR