BEGIN:VCALENDAR
VERSION:2.0
PRODID:-//Pointe-a-Pierre Golf Club - ECPv6.15.20//NONSGML v1.0//EN
CALSCALE:GREGORIAN
METHOD:PUBLISH
X-ORIGINAL-URL:https://papgcl.com
X-WR-CALDESC:Events for Pointe-a-Pierre Golf Club
REFRESH-INTERVAL;VALUE=DURATION:PT1H
X-Robots-Tag:noindex
X-PUBLISHED-TTL:PT1H
BEGIN:VTIMEZONE
TZID:America/Halifax
BEGIN:DAYLIGHT
TZOFFSETFROM:-0400
TZOFFSETTO:-0300
TZNAME:ADT
DTSTART:20230312T060000
END:DAYLIGHT
BEGIN:STANDARD
TZOFFSETFROM:-0300
TZOFFSETTO:-0400
TZNAME:AST
DTSTART:20231105T050000
END:STANDARD
BEGIN:DAYLIGHT
TZOFFSETFROM:-0400
TZOFFSETTO:-0300
TZNAME:ADT
DTSTART:20240310T060000
END:DAYLIGHT
BEGIN:STANDARD
TZOFFSETFROM:-0300
TZOFFSETTO:-0400
TZNAME:AST
DTSTART:20241103T050000
END:STANDARD
BEGIN:DAYLIGHT
TZOFFSETFROM:-0400
TZOFFSETTO:-0300
TZNAME:ADT
DTSTART:20250309T060000
END:DAYLIGHT
BEGIN:STANDARD
TZOFFSETFROM:-0300
TZOFFSETTO:-0400
TZNAME:AST
DTSTART:20251102T050000
END:STANDARD
BEGIN:DAYLIGHT
TZOFFSETFROM:-0400
TZOFFSETTO:-0300
TZNAME:ADT
DTSTART:20260308T060000
END:DAYLIGHT
BEGIN:STANDARD
TZOFFSETFROM:-0300
TZOFFSETTO:-0400
TZNAME:AST
DTSTART:20261101T050000
END:STANDARD
BEGIN:DAYLIGHT
TZOFFSETFROM:-0400
TZOFFSETTO:-0300
TZNAME:ADT
DTSTART:20270314T060000
END:DAYLIGHT
BEGIN:STANDARD
TZOFFSETFROM:-0300
TZOFFSETTO:-0400
TZNAME:AST
DTSTART:20271107T050000
END:STANDARD
END:VTIMEZONE
BEGIN:VEVENT
DTSTART;TZID=America/Halifax:20240924T090000
DTEND;TZID=America/Halifax:20240924T170000
DTSTAMP:20260421T221733
CREATED:20240903T201202Z
LAST-MODIFIED:20240903T201248Z
UID:4801-1727168400-1727197200@papgcl.com
SUMMARY:Republic Day Tournament
DESCRIPTION:Tuesday 24th September 2024 \n\nFormat: 3 Ball Scramble\nShotgun Start: 9AM\nFee:$700. Per Team\nBreakfast\, Dinner & Prizes\n\nREGISTER NOW! \nPAPGCL Admin Office. \n4782294 \npapgolfclubltd@gmail.com \nCloses@4pm Friday 20th September 2024
URL:https://papgcl.com/event/republic-day-tournament/
LOCATION:Pointe-a-Pierre Golf Club\, Concord Road\, Pointe-à-Pierre\,\, Trinidad and Tobago
CATEGORIES:Golf,Golf Tournament
ATTACH;FMTTYPE=image/jpeg:https://papgcl.com/wp-content/uploads/2024/09/Republic-Day-Tournament.jpg
ORGANIZER;CN="PAPGCL":MAILTO:papgcltd@gmail.com
END:VEVENT
BEGIN:VEVENT
DTSTART;TZID=America/Halifax:20241013T080000
DTEND;TZID=America/Halifax:20241013T170000
DTSTAMP:20260421T221733
CREATED:20241003T182223Z
LAST-MODIFIED:20241003T195745Z
UID:4827-1728806400-1728838800@papgcl.com
SUMMARY:Wand Foundation Tournament
DESCRIPTION:Sunday 13th October 2024. Wand Foundation Tournament
URL:https://papgcl.com/event/saturday-wand-foundation-tournament/
LOCATION:Pointe-a-Pierre Golf Club\, Concord Road\, Pointe-à-Pierre\,\, Trinidad and Tobago
CATEGORIES:Golf,Golf Tournament
ORGANIZER;CN="PAPGCL":MAILTO:papgcltd@gmail.com
END:VEVENT
BEGIN:VEVENT
DTSTART;TZID=America/Halifax:20241123T080000
DTEND;TZID=America/Halifax:20241123T170000
DTSTAMP:20260421T221733
CREATED:20240903T195837Z
LAST-MODIFIED:20240903T195837Z
UID:4793-1732348800-1732381200@papgcl.com
SUMMARY:PAPGCL PRO-AM
DESCRIPTION:Saturday 23rd November 2024. \n\nSuper Prizes\nShotgun Start\nTeam of 4: 1Pro/Low Am & 3 Ams\n\nFollow for more details
URL:https://papgcl.com/event/papgcl-pro-am/
LOCATION:Pointe-a-Pierre Golf Club\, Concord Road\, Pointe-à-Pierre\,\, Trinidad and Tobago
CATEGORIES:Golf,Golf Tournament
ATTACH;FMTTYPE=image/jpeg:https://papgcl.com/wp-content/uploads/2024/09/PAPGCL-Pro-AM-23-Nov-2024.jpg
ORGANIZER;CN="PAPGCL":MAILTO:papgcltd@gmail.com
END:VEVENT
BEGIN:VEVENT
DTSTART;TZID=America/Halifax:20241124T080000
DTEND;TZID=America/Halifax:20241124T170000
DTSTAMP:20260421T221733
CREATED:20241003T195544Z
LAST-MODIFIED:20241003T195608Z
UID:4861-1732435200-1732467600@papgcl.com
SUMMARY:Mayor's Charity Golf Tournament
DESCRIPTION:Sunday 24th November 2024. Mayor’s Charity Golf Tournament
URL:https://papgcl.com/event/mayors-charity-golf-tournament/
LOCATION:Pointe-a-Pierre Golf Club\, Concord Road\, Pointe-à-Pierre\,\, Trinidad and Tobago
CATEGORIES:Golf,Golf Tournament
ORGANIZER;CN="PAPGCL":MAILTO:papgcltd@gmail.com
END:VEVENT
BEGIN:VEVENT
DTSTART;TZID=America/Halifax:20250419T070000
DTEND;TZID=America/Halifax:20250419T170000
DTSTAMP:20260421T221733
CREATED:20250411T190031Z
LAST-MODIFIED:20250411T190031Z
UID:5470-1745046000-1745082000@papgcl.com
SUMMARY:Naps Girls Tournament - 19th April 2025
DESCRIPTION:Naparima Girls High School Parent’s Action Committee’s \n11th Annual Golf Tournament – 19th April 2025\, \nPointe-a-Pierre Golf Club Ltd.
URL:https://papgcl.com/event/naps-girls-tournament-19th-april-2025/
LOCATION:Pointe-a-Pierre Golf Club\, Concord Road\, Pointe-à-Pierre\,\, Trinidad and Tobago
CATEGORIES:Golf,Golf Tournament
ATTACH;FMTTYPE=image/jpeg:https://papgcl.com/wp-content/uploads/2025/04/11-Annual-Golf-Tournament-19-April-2025.jpg
ORGANIZER;CN="PAPGCL":MAILTO:papgcltd@gmail.com
END:VEVENT
BEGIN:VEVENT
DTSTART;TZID=America/Halifax:20250517T080000
DTEND;TZID=America/Halifax:20250517T170000
DTSTAMP:20260421T221733
CREATED:20250411T190953Z
LAST-MODIFIED:20250411T190953Z
UID:5484-1747468800-1747501200@papgcl.com
SUMMARY:Saturday 17th May: Braggers Cup
DESCRIPTION:Saturday 17th May: Braggers Cup
URL:https://papgcl.com/event/saturday-17th-may-braggers-cup/
LOCATION:Pointe-a-Pierre Golf Club\, Concord Road\, Pointe-à-Pierre\,\, Trinidad and Tobago
CATEGORIES:Golf,Golf Tournament
ORGANIZER;CN="PAPGCL":MAILTO:papgcltd@gmail.com
END:VEVENT
BEGIN:VEVENT
DTSTART;TZID=America/Halifax:20250524T080000
DTEND;TZID=America/Halifax:20250524T170000
DTSTAMP:20260421T221733
CREATED:20250507T184901Z
LAST-MODIFIED:20250507T184901Z
UID:5508-1748073600-1748106000@papgcl.com
SUMMARY:PAPGCL Match Plays: 24th May 2025
DESCRIPTION:Match Play 24th May 2025 \nA Class: 0-9 \nB Class: 10-16 \nC Class:17-24 \nD Class 25 and Over \nRegistration Fee $150.00
URL:https://papgcl.com/event/papgcl-match-plays-24th-may-2025/
LOCATION:Pointe-a-Pierre Golf Club\, Concord Road\, Pointe-à-Pierre\,\, Trinidad and Tobago
CATEGORIES:Golf,Golf Tournament
ATTACH;FMTTYPE=image/jpeg:https://papgcl.com/wp-content/uploads/2025/05/match-play-24-may-2025.jpg
ORGANIZER;CN="PAPGCL":MAILTO:papgcltd@gmail.com
END:VEVENT
BEGIN:VEVENT
DTSTART;TZID=America/Halifax:20250527T080000
DTEND;TZID=America/Halifax:20250527T170000
DTSTAMP:20260421T221733
CREATED:20250507T185124Z
LAST-MODIFIED:20250507T190245Z
UID:5513-1748332800-1748365200@papgcl.com
SUMMARY:PAPGCL Braggers Cup: 27th May 2025
DESCRIPTION:PAPGCL Braggers Cup: 27th May 2025
URL:https://papgcl.com/event/papgcl-braggers-cup-27th-may-2025/
LOCATION:Pointe-a-Pierre Golf Club\, Concord Road\, Pointe-à-Pierre\,\, Trinidad and Tobago
CATEGORIES:Golf,Golf Tournament
ORGANIZER;CN="PAPGCL":MAILTO:papgcltd@gmail.com
END:VEVENT
BEGIN:VEVENT
DTSTART;TZID=America/Halifax:20250531T080000
DTEND;TZID=America/Halifax:20250531T170000
DTSTAMP:20260421T221733
CREATED:20250411T191111Z
LAST-MODIFIED:20250411T191111Z
UID:5488-1748678400-1748710800@papgcl.com
SUMMARY:Saturday 31st May: Indian Arrival Day Tournament
DESCRIPTION:Saturday 31st May: Indian Arrival Day Tournament
URL:https://papgcl.com/event/saturday-31st-may-indian-arrival-day-tournament/
LOCATION:Pointe-a-Pierre Golf Club\, Concord Road\, Pointe-à-Pierre\,\, Trinidad and Tobago
CATEGORIES:Golf,Golf Tournament
ORGANIZER;CN="PAPGCL":MAILTO:papgcltd@gmail.com
END:VEVENT
BEGIN:VEVENT
DTSTART;TZID=America/Halifax:20250531T080000
DTEND;TZID=America/Halifax:20250531T170000
DTSTAMP:20260421T221733
CREATED:20250507T185249Z
LAST-MODIFIED:20250507T190215Z
UID:5517-1748678400-1748710800@papgcl.com
SUMMARY:PAPGCL Indian Arrival Day Tournament: 31st May 2025
DESCRIPTION:PAPGCL Indian Arrival Day Tournament: 31st May 2025
URL:https://papgcl.com/event/papgcl-indian-arrival-day-tournament-31st-may-2025/
LOCATION:Pointe-a-Pierre Golf Club\, Concord Road\, Pointe-à-Pierre\,\, Trinidad and Tobago
CATEGORIES:Golf,Golf Tournament
ORGANIZER;CN="PAPGCL":MAILTO:papgcltd@gmail.com
END:VEVENT
BEGIN:VEVENT
DTSTART;TZID=America/Halifax:20250601T080000
DTEND;TZID=America/Halifax:20250601T170000
DTSTAMP:20260421T221733
CREATED:20250507T185936Z
LAST-MODIFIED:20250507T185936Z
UID:5521-1748764800-1748797200@papgcl.com
SUMMARY:WAND Charity Tournament at PAPGCL : 1st June 2025
DESCRIPTION:WAND Charity Tournament at PAPGCL : 1st June 2025
URL:https://papgcl.com/event/wand-charity-tournament-at-papgcl-1st-june-2025/
LOCATION:Pointe-a-Pierre Golf Club\, Concord Road\, Pointe-à-Pierre\,\, Trinidad and Tobago
CATEGORIES:Golf,Golf Tournament
ORGANIZER;CN="PAPGCL":MAILTO:papgcltd@gmail.com
END:VEVENT
BEGIN:VEVENT
DTSTART;TZID=America/Halifax:20250823T080000
DTEND;TZID=America/Halifax:20250823T170000
DTSTAMP:20260421T221733
CREATED:20251023T004658Z
LAST-MODIFIED:20251023T004658Z
UID:5668-1755936000-1755968400@papgcl.com
SUMMARY:Stephen Ames Cup August 2025
DESCRIPTION:Developing and inspiring youth through the game of golf. \nSaturday 23rd August 2025 Shotgun Start: 9:30 AM. \n4 Ball MAX HC 28 X 85% Stableford Pts. \n$1800.00 TT Team 2 Golfers per team \n  \n 
URL:https://papgcl.com/event/stephen-ames-cup-august-2025/
LOCATION:Pointe-a-Pierre Golf Club\, Concord Road\, Pointe-à-Pierre\,\, Trinidad and Tobago
CATEGORIES:Golf Tournament
ATTACH;FMTTYPE=image/webp:https://papgcl.com/wp-content/uploads/2025/08/stephen-ames-cup-2025.webp
ORGANIZER;CN="PAPGCL":MAILTO:papgcltd@gmail.com
END:VEVENT
BEGIN:VEVENT
DTSTART;TZID=America/Halifax:20251129T080000
DTEND;TZID=America/Halifax:20251130T170000
DTSTAMP:20260421T221733
CREATED:20251118T005333Z
LAST-MODIFIED:20251118T005333Z
UID:5701-1764403200-1764522000@papgcl.com
SUMMARY:PAPGCL CLUB CHAMPIONSHIP NOVEMBER 2025
DESCRIPTION:PAPGCL Club Championship \nNovember 29th to 30th 2025 \nTee Times from 8AM \n$300.00/Player \n$100.00/Junior \nLunch Included
URL:https://papgcl.com/event/papgcl-club-championship-november-2025/
LOCATION:Pointe-a-Pierre Golf Club\, Concord Road\, Pointe-à-Pierre\,\, Trinidad and Tobago
CATEGORIES:Golf,Golf Tournament
ATTACH;FMTTYPE=image/webp:https://papgcl.com/wp-content/uploads/2025/11/papgcl-club-championship-nov-29-30-2025.webp
ORGANIZER;CN="PAPGCL":MAILTO:papgcltd@gmail.com
END:VEVENT
BEGIN:VEVENT
DTSTART;TZID=America/Halifax:20260123T080000
DTEND;TZID=America/Halifax:20260125T170000
DTSTAMP:20260421T221733
CREATED:20251118T021844Z
LAST-MODIFIED:20251118T021844Z
UID:5716-1769155200-1769360400@papgcl.com
SUMMARY:3-Day Open South Classic 2026
DESCRIPTION:3-Day Open South Classic 2026\, 23rd\, 24th and 25th January 2026. \nRegister Now 4782294\, papgolfclubltd@gmail.com \nPGPGCL ADMIN OFFICE
URL:https://papgcl.com/event/3-day-open-south-classic-2026/
LOCATION:Pointe-a-Pierre Golf Club\, Concord Road\, Pointe-à-Pierre\,\, Trinidad and Tobago
CATEGORIES:Golf,Golf Tournament
ATTACH;FMTTYPE=image/webp:https://papgcl.com/wp-content/uploads/2025/11/3-day-open-2026-flyer.webp
ORGANIZER;CN="PAPGCL":MAILTO:papgcltd@gmail.com
END:VEVENT
END:VCALENDAR